BEGIN:VCALENDAR
VERSION:2.0
PRODID:-//Rock-On zenekar - ECPv6.15.18//NONSGML v1.0//EN
CALSCALE:GREGORIAN
METHOD:PUBLISH
X-ORIGINAL-URL:https://rock-on.hu
X-WR-CALDESC:Események Rock-On zenekar
REFRESH-INTERVAL;VALUE=DURATION:PT1H
X-Robots-Tag:noindex
X-PUBLISHED-TTL:PT1H
BEGIN:VTIMEZONE
TZID:Europe/Budapest
BEGIN:DAYLIGHT
TZOFFSETFROM:+0100
TZOFFSETTO:+0200
TZNAME:CEST
DTSTART:20240331T010000
END:DAYLIGHT
BEGIN:STANDARD
TZOFFSETFROM:+0200
TZOFFSETTO:+0100
TZNAME:CET
DTSTART:20241027T010000
END:STANDARD
BEGIN:DAYLIGHT
TZOFFSETFROM:+0100
TZOFFSETTO:+0200
TZNAME:CEST
DTSTART:20250330T010000
END:DAYLIGHT
BEGIN:STANDARD
TZOFFSETFROM:+0200
TZOFFSETTO:+0100
TZNAME:CET
DTSTART:20251026T010000
END:STANDARD
BEGIN:DAYLIGHT
TZOFFSETFROM:+0100
TZOFFSETTO:+0200
TZNAME:CEST
DTSTART:20260329T010000
END:DAYLIGHT
BEGIN:STANDARD
TZOFFSETFROM:+0200
TZOFFSETTO:+0100
TZNAME:CET
DTSTART:20261025T010000
END:STANDARD
END:VTIMEZONE
BEGIN:VEVENT
DTSTART;VALUE=DATE:20250608
DTEND;VALUE=DATE:20250609
DTSTAMP:20260419T184914
CREATED:20250407T111613Z
LAST-MODIFIED:20250603T105419Z
UID:3502-1749340800-1749427199@rock-on.hu
SUMMARY:Rock-On - Koncert - Pázmánd
DESCRIPTION:Rock-On – Koncert – Pázmánd \nBővebb infó hamarosan… \nIdőpont: 2025.06.08.\nKezdés: 18:00 \n \n \n\n \nA Rock-On zenekar 2009 óta létezik ebben a felállásban\nAki még esetleg nem hallott rólunk zenekarunk magyar rock feldolgozásokat játszik.\nEdda művek\, Korál\, P.Mobil\, Lord\, Beatrice\, Bikini\, B52\, Ismerős Arcok\, Deák Bill Gyula\, Omega\, TRB\, P. Box\, Piramis…\nmind a kedvenceink közé tartozik és ezek közül válogatunk. \nYoutube-os videóink: https://www.youtube.com/@Rockonzenekar/videos
URL:https://rock-on.hu/event/rock-on-koncert-pazmand/
LOCATION:Pázmánd\, Pázmánd\, 2476\, Hungary
CATEGORIES:Rock-On koncert
ATTACH;FMTTYPE=image/jpeg:https://rock-on.hu/wp-content/uploads/2025/04/paznew.jpg
END:VEVENT
END:VCALENDAR