BEGIN:VCALENDAR
VERSION:2.0
PRODID:-//Rock-On zenekar - ECPv6.15.18//NONSGML v1.0//EN
CALSCALE:GREGORIAN
METHOD:PUBLISH
X-ORIGINAL-URL:https://rock-on.hu
X-WR-CALDESC:Események Rock-On zenekar
REFRESH-INTERVAL;VALUE=DURATION:PT1H
X-Robots-Tag:noindex
X-PUBLISHED-TTL:PT1H
BEGIN:VTIMEZONE
TZID:Europe/Budapest
BEGIN:DAYLIGHT
TZOFFSETFROM:+0100
TZOFFSETTO:+0200
TZNAME:CEST
DTSTART:20220327T010000
END:DAYLIGHT
BEGIN:STANDARD
TZOFFSETFROM:+0200
TZOFFSETTO:+0100
TZNAME:CET
DTSTART:20221030T010000
END:STANDARD
BEGIN:DAYLIGHT
TZOFFSETFROM:+0100
TZOFFSETTO:+0200
TZNAME:CEST
DTSTART:20230326T010000
END:DAYLIGHT
BEGIN:STANDARD
TZOFFSETFROM:+0200
TZOFFSETTO:+0100
TZNAME:CET
DTSTART:20231029T010000
END:STANDARD
BEGIN:DAYLIGHT
TZOFFSETFROM:+0100
TZOFFSETTO:+0200
TZNAME:CEST
DTSTART:20240331T010000
END:DAYLIGHT
BEGIN:STANDARD
TZOFFSETFROM:+0200
TZOFFSETTO:+0100
TZNAME:CET
DTSTART:20241027T010000
END:STANDARD
END:VTIMEZONE
BEGIN:VEVENT
DTSTART;TZID=Europe/Budapest:20230430T203000
DTEND;TZID=Europe/Budapest:20230430T223000
DTSTAMP:20260421T185025
CREATED:20230324T153857Z
LAST-MODIFIED:20230326T120326Z
UID:3251-1682886600-1682893800@rock-on.hu
SUMMARY:XV. Velencei-tavi Hal\, Vad\, Bor és Pálinkafesztivál
DESCRIPTION:XV. Velencei-tavi Pálinkafesztivál azaz teljes nevén XV. Velencei-tavi Hal\, Vad\, Bor és Pálinkafesztivál\, Agárd az  Agárden büfésoron\nIdőpont: 2023.04.30.\nKezdés: 20:30 \nIdén is együtt bulizhatunk a Velencei-tavi Hal\, Vad\, Bor és Pálinkafesztiválon. \nSzeretettel várunk minden rockrajongót! \n \nXV.Velencei-tavi Pálinkafesztivál \nA Rock-On zenekar 2009 óta létezik ebben a felállásban és kezdetek óta rendszeresen felléptünk a Agárden büfésor színpadán.\nMost is örömmel fogadtuk a meghívást! Nagyon várjuk már az új találkozást! 🙂\nAki még esetleg nem hallott rólunk zenekarunk magyar rock feldolgozásokat játszik.\nEdda művek\, Korál\, P.Mobil\, Lord\, Beatrice\, Bikini\, B52\, Ismerős Arcok\, Deák Bill Gyula\, Omega\, TRB\, P. Box\, Piramis…\nmind a kedvenceink közé tartozik és ezek közül válogatunk. \nTovábbi események: https://rock-on.hu/events/ \nhttps://www.facebook.com/rockon.zenekar
URL:https://rock-on.hu/event/xv-velencei-tavi-hal-vad-bor-es-palinkafesztival-agard/
LOCATION:Agárd\, Agárd\, 2484\, Magyarország
CATEGORIES:Belépés ingyenes,Rock-On koncert
ATTACH;FMTTYPE=image/jpeg:https://rock-on.hu/wp-content/uploads/2020/12/IMG_1742.jpg
END:VEVENT
END:VCALENDAR