BEGIN:VCALENDAR
VERSION:2.0
PRODID:-//Rock-On zenekar - ECPv6.15.18//NONSGML v1.0//EN
CALSCALE:GREGORIAN
METHOD:PUBLISH
X-WR-CALNAME:Rock-On zenekar
X-ORIGINAL-URL:https://rock-on.hu
X-WR-CALDESC:Események Rock-On zenekar
REFRESH-INTERVAL;VALUE=DURATION:PT1H
X-Robots-Tag:noindex
X-PUBLISHED-TTL:PT1H
BEGIN:VTIMEZONE
TZID:Europe/Budapest
BEGIN:DAYLIGHT
TZOFFSETFROM:+0100
TZOFFSETTO:+0200
TZNAME:CEST
DTSTART:20220327T010000
END:DAYLIGHT
BEGIN:STANDARD
TZOFFSETFROM:+0200
TZOFFSETTO:+0100
TZNAME:CET
DTSTART:20221030T010000
END:STANDARD
BEGIN:DAYLIGHT
TZOFFSETFROM:+0100
TZOFFSETTO:+0200
TZNAME:CEST
DTSTART:20230326T010000
END:DAYLIGHT
BEGIN:STANDARD
TZOFFSETFROM:+0200
TZOFFSETTO:+0100
TZNAME:CET
DTSTART:20231029T010000
END:STANDARD
BEGIN:DAYLIGHT
TZOFFSETFROM:+0100
TZOFFSETTO:+0200
TZNAME:CEST
DTSTART:20240331T010000
END:DAYLIGHT
BEGIN:STANDARD
TZOFFSETFROM:+0200
TZOFFSETTO:+0100
TZNAME:CET
DTSTART:20241027T010000
END:STANDARD
END:VTIMEZONE
BEGIN:VEVENT
DTSTART;TZID=Europe/Budapest:20230715T150000
DTEND;TZID=Europe/Budapest:20230715T173000
DTSTAMP:20260421T184749
CREATED:20230315T074020Z
LAST-MODIFIED:20230326T120130Z
UID:3230-1689433200-1689442200@rock-on.hu
SUMMARY:Rock- On Koncert- Isaszeg Agárpálya
DESCRIPTION:Zárt körű rendezvény\n \nA Rock-On zenekar 2009 óta létezik ebben a felállásban.\nAki még esetleg nem hallott rólunk zenekarunk magyar rock feldolgozásokat játszik.\nEdda művek\, Korál\, P.Mobil\, Lord\, Beatrice\, Bikini\, B52\, Ismerős Arcok\, Deák Bill Gyula\, Omega\, TRB\, P. Box\, Piramis…\nmind a kedvenceink közé tartozik és ezek közül válogatunk. \nTovábbi események: https://rock-on.hu/events/ \nhttps://www.facebook.com/rockon.zenekar
URL:https://rock-on.hu/event/rock-on-koncert-isaszeg-agarpalya/
LOCATION:Isaszeg\, Isaszeg\, 2117\, Magyarország
CATEGORIES:Privát buli
ATTACH;FMTTYPE=image/jpeg:https://rock-on.hu/wp-content/uploads/2020/12/SAM_1699_InPixio.jpg
END:VEVENT
END:VCALENDAR