BEGIN:VCALENDAR
VERSION:2.0
PRODID:-//Rock-On zenekar - ECPv6.15.18//NONSGML v1.0//EN
CALSCALE:GREGORIAN
METHOD:PUBLISH
X-ORIGINAL-URL:https://rock-on.hu
X-WR-CALDESC:Események Rock-On zenekar
REFRESH-INTERVAL;VALUE=DURATION:PT1H
X-Robots-Tag:noindex
X-PUBLISHED-TTL:PT1H
BEGIN:VTIMEZONE
TZID:Europe/Budapest
BEGIN:DAYLIGHT
TZOFFSETFROM:+0100
TZOFFSETTO:+0200
TZNAME:CEST
DTSTART:20220327T010000
END:DAYLIGHT
BEGIN:STANDARD
TZOFFSETFROM:+0200
TZOFFSETTO:+0100
TZNAME:CET
DTSTART:20221030T010000
END:STANDARD
BEGIN:DAYLIGHT
TZOFFSETFROM:+0100
TZOFFSETTO:+0200
TZNAME:CEST
DTSTART:20230326T010000
END:DAYLIGHT
BEGIN:STANDARD
TZOFFSETFROM:+0200
TZOFFSETTO:+0100
TZNAME:CET
DTSTART:20231029T010000
END:STANDARD
BEGIN:DAYLIGHT
TZOFFSETFROM:+0100
TZOFFSETTO:+0200
TZNAME:CEST
DTSTART:20240331T010000
END:DAYLIGHT
BEGIN:STANDARD
TZOFFSETFROM:+0200
TZOFFSETTO:+0100
TZNAME:CET
DTSTART:20241027T010000
END:STANDARD
END:VTIMEZONE
BEGIN:VEVENT
DTSTART;TZID=Europe/Budapest:20230819T200000
DTEND;TZID=Europe/Budapest:20230819T210000
DTSTAMP:20260422T105249
CREATED:20230315T075142Z
LAST-MODIFIED:20230326T115914Z
UID:3233-1692475200-1692478800@rock-on.hu
SUMMARY:Rock- On Koncert- Hantos
DESCRIPTION:Meghívást kaptunk ismét Hantosra\, ahol több alkalommal volt szerencsénk koncertezni a kiváló közönség előtt. Nagyon várjuk már az új találkozást!\n\nA Rock-On zenekar 2009 óta létezik ebben a felállásban  és kezdetek óta rendszeresen felléptünk Hantoson is.\nAki még esetleg nem hallott rólunk zenekarunk magyar rock feldolgozásokat játszik.\nEdda művek\, Korál\, P.Mobil\, Lord\, Beatrice\, Bikini\, B52\, Ismerős Arcok\, Deák Bill Gyula\, Omega\, TRB\, P. Box\, Piramis…\nmind a kedvenceink közé tartozik és ezek közül válogatunk.\nTalálkozzunk 2023. Augusztus 19.-én a Hantoson és bulizzunk egy jót együtt! 🙂 \nTovábbi események: https://rock-on.hu/events/ \nhttps://www.facebook.com/rockon.zenekar
URL:https://rock-on.hu/event/rock-on-koncert-hantos/
LOCATION:Hantos\, Hantos\, 2434\, Magyarország
CATEGORIES:Belépés ingyenes,Rock-On koncert
ATTACH;FMTTYPE=image/jpeg:https://rock-on.hu/wp-content/uploads/2021/01/IMG_1757.jpg
END:VEVENT
END:VCALENDAR